BEGIN:VCALENDAR
VERSION:2.0
PRODID:-//Hampton Roads Convention Center - ECPv6.15.20//NONSGML v1.0//EN
CALSCALE:GREGORIAN
METHOD:PUBLISH
X-WR-CALNAME:Hampton Roads Convention Center
X-ORIGINAL-URL:https://thehrcc.com
X-WR-CALDESC:Events for Hampton Roads Convention Center
REFRESH-INTERVAL;VALUE=DURATION:PT1H
X-Robots-Tag:noindex
X-PUBLISHED-TTL:PT1H
BEGIN:VTIMEZONE
TZID:America/New_York
BEGIN:DAYLIGHT
TZOFFSETFROM:-0500
TZOFFSETTO:-0400
TZNAME:EDT
DTSTART:20250309T070000
END:DAYLIGHT
BEGIN:STANDARD
TZOFFSETFROM:-0400
TZOFFSETTO:-0500
TZNAME:EST
DTSTART:20251102T060000
END:STANDARD
BEGIN:DAYLIGHT
TZOFFSETFROM:-0500
TZOFFSETTO:-0400
TZNAME:EDT
DTSTART:20260308T070000
END:DAYLIGHT
BEGIN:STANDARD
TZOFFSETFROM:-0400
TZOFFSETTO:-0500
TZNAME:EST
DTSTART:20261101T060000
END:STANDARD
BEGIN:DAYLIGHT
TZOFFSETFROM:-0500
TZOFFSETTO:-0400
TZNAME:EDT
DTSTART:20270314T070000
END:DAYLIGHT
BEGIN:STANDARD
TZOFFSETFROM:-0400
TZOFFSETTO:-0500
TZNAME:EST
DTSTART:20271107T060000
END:STANDARD
END:VTIMEZONE
BEGIN:VTIMEZONE
TZID:America/New_York
BEGIN:DAYLIGHT
TZOFFSETFROM:-0500
TZOFFSETTO:-0400
TZNAME:EDT
DTSTART:20250309T070000
END:DAYLIGHT
BEGIN:STANDARD
TZOFFSETFROM:-0400
TZOFFSETTO:-0500
TZNAME:EST
DTSTART:20251102T060000
END:STANDARD
BEGIN:DAYLIGHT
TZOFFSETFROM:-0500
TZOFFSETTO:-0400
TZNAME:EDT
DTSTART:20260308T070000
END:DAYLIGHT
BEGIN:STANDARD
TZOFFSETFROM:-0400
TZOFFSETTO:-0500
TZNAME:EST
DTSTART:20261101T060000
END:STANDARD
BEGIN:DAYLIGHT
TZOFFSETFROM:-0500
TZOFFSETTO:-0400
TZNAME:EDT
DTSTART:20270314T070000
END:DAYLIGHT
BEGIN:STANDARD
TZOFFSETFROM:-0400
TZOFFSETTO:-0500
TZNAME:EST
DTSTART:20271107T060000
END:STANDARD
END:VTIMEZONE
BEGIN:VEVENT
DTSTART;TZID=America/New_York:20260425T150000
DTEND;TZID=America/New_York:20260425T190000
DTSTAMP:20260423T071026
CREATED:20260415T203336Z
LAST-MODIFIED:20260415T203336Z
UID:10000476-1777129200-1777143600@thehrcc.com
SUMMARY:Unleash the Confidence: Women's Health & Wellness Expo
DESCRIPTION:Join us for Unleash the Confidence Women’s Expo. A day of women’s health\, self-care\, and confidence—plus catered food and inspiring awards! \nConfidence. Community. Wellness. More than an expo – it’s an experience. What to expect:  \n\nHealth & wellness resourcs\npowerful panel discussions\nInspiring awards ceremony\nLive entertainment\nFree giveaways\nFood & community connections\n\nSaturday\, April 25\, 2026 at the Hampton Roads Convention Center in Hampton\, VA. Hosted by the WKW Cary Foundation Inc. 
URL:https://thehrcc.com/hrcc-event/unleash-the-confidence-womens-health-wellness-expo/
LOCATION:Hampton Roads Convention Center\, 1610 Coliseum Dr\, Hampton\, VA\, 23666\, United States
CATEGORIES:Featured on Homepage
ATTACH;FMTTYPE=image/png:https://thehrcc.com/wp-content/uploads/2026/04/Screenshot-2026-04-15-162306.png
END:VEVENT
BEGIN:VEVENT
DTSTART;TZID=America/New_York:20260425T170000
DTEND;TZID=America/New_York:20260425T190000
DTSTAMP:20260423T071026
CREATED:20260415T203549Z
LAST-MODIFIED:20260415T203549Z
UID:10000475-1777136400-1777143600@thehrcc.com
SUMMARY:2026 Country for Kids Concert
DESCRIPTION:Grab your boots for the 2026 Country for Kids concert! This year\, the 757’s favorite country music tradition celebrates its 26th anniversary with a star-studded lineup at the Hampton Roads Convention Center. All net proceeds directly benefit the Center for Child & Family Services\, supporting over 20 essential community programs.\n \n2026 Lineup & Schedule\n\nHeadliner: Multi-platinum artist Joe Nichols\, performing hits like “Sunny and 75” and “Tequila Makes Her Clothes Fall Off”.\nSpecial Guests: Featuring performances by TRACIELYNN and Alec Edmonds.\nPre-Event Music: Kick things off with DJ Ty Street at 5:30 P.M..\n\n \n\nEvent Details\n\nSaturday\, April 25\, 2026\nLocation: Main Ballroom (2nd Floor)\, Hampton Roads Convention Center.\nDoors Open: 5:30 P.M. | Show Starts: 6:45 P.M..\nTickets: $25 for General Admission; $70 for Reserved VIP Seating (includes VIP Lounge access).\nActivities: Silent auction\, photo booth\, and VIP areas sponsored by local partners.\n\nTickets and full details are available at the official Country for Kids website.
URL:https://thehrcc.com/hrcc-event/2026-country-for-kids-concert/
LOCATION:Hampton Roads Convention Center\, 1610 Coliseum Dr\, Hampton\, VA\, 23666\, United States
CATEGORIES:Featured on Homepage
ATTACH;FMTTYPE=image/jpeg:https://thehrcc.com/wp-content/uploads/2026/04/cfk2026-flyer.jpg
END:VEVENT
BEGIN:VEVENT
DTSTART;TZID=America/New_York:20260516T090000
DTEND;TZID=America/New_York:20260516T170000
DTSTAMP:20260423T071026
CREATED:20260414T204500Z
LAST-MODIFIED:20260414T204802Z
UID:10000285-1778922000-1778950800@thehrcc.com
SUMMARY:The 2nd Annual Medical and Mental Health Wellness Fair
DESCRIPTION:This fair will be held at the Hampton Roads Convention Center on Saturday\, May 16\, 2026. This event is free and open to the public. \nThe Hampton Alumnae Chapter of Delta Sigma Theta Sorority\, Inc.\, is planning to host the 2nd Annual Medical & Mental Health Wellness Fair on Saturday\, May 16\, 2026 from 9am until 5pm at the Hampton Roads Convention Center located in the heart of Hampton\, Virginia. This event is free and open to the public. \nThe purpose of our Medical and Mental Health Wellness Fair is to provide community resources in the areas of medical and mental health such as but not limited to: preventive care classes\, breast cancer screenings\, discussions pertaining to the importance of prostate screenings for men\, mental health awareness\, chronic disease management\, nutrition\, and the importance of living an active life through exercise. This wellness fair will educate our community regarding their access to services and foster a sense of community by bringing the citizens of Hampton together along with local agencies to share valuable information\, resources and offer support. Attendees will receive brochures\, pamphlets\, and other educational materials about health resources available in our community. \nThis Wellness Fair will highlight the importance of Mental Health awareness to reduce the stigma that surrounds this topic and encourage our community to seek counseling when needed. Overall\, our Medical & Mental Health Wellness fair aims to truly improve our community health outcomes by educating our citizens\, promoting access to health services within our city and encouraging a healthier lifestyle for the entire family. Together\, we are strong! For those interested in getting a cancer screening\, please bring a copy of your insurance card and your ID. If you don’t have insurance\, financial assistance will be available to those who qualify.
URL:https://thehrcc.com/hrcc-event/the-2nd-annual-medical-and-mental-health-wellness-fair/
LOCATION:Hampton Roads Convention Center\, 1610 Coliseum Dr\, Hampton\, VA\, 23666\, United States
CATEGORIES:Featured on Homepage
ATTACH;FMTTYPE=image/jpeg:https://thehrcc.com/wp-content/uploads/2026/04/The-2nd-Annual-Medical-and-Mental-Health-Wellness-Fair.jpg
END:VEVENT
BEGIN:VEVENT
DTSTART;TZID=America/New_York:20260529T180000
DTEND;TZID=America/New_York:20260529T220000
DTSTAMP:20260423T071026
CREATED:20251223T204739Z
LAST-MODIFIED:20251223T204739Z
UID:10000255-1780077600-1780092000@thehrcc.com
SUMMARY:Freedom Dinner
DESCRIPTION:Update: 1/12/26: Event has been postponed to May 29\, 2026. \n\nCelebrate Hampton’s rich heritage and bright future at the Freedom 250 Dinner. A night of legacy\, food\, and fellowship. \nJoin us for an unforgettable evening as Hampton proudly commemorates America’s 250th anniversary with a fully immersive historical dining experience. The Freedom 250 Dinner transports guests back to 1776 — exploring the sights\, flavors\, and cultural spirit of the Revolutionary era. \nCrafted in partnership with Hampton VA250\, Hampton Roads Convention Center\, Hampton City Schools\, and Hampton Master Gardeners\, this event highlights local talent\, history\, and community connection. \n What to Expect \n\nFive-course colonial-inspired dinner curated and executed by students from Phoebus High School’s Hospitality & Tourism Academy\nWine pairings selected to complement each course\nLive entertainment + historical interpreters bringing Revolutionary-era stories to life\nPeriod attire and immersive décor inspired by the founding era\nA community celebration bridging past and present\n\nThis student-designed experience is the culmination of months of research and creativity — including menu development aligned with authentic 18th-century ingredients grown locally with support from the Hampton Master Gardeners. Every detail reflects the innovation and future leadership of the hospitality workforce being developed right here in Hampton. \nStep into a world of elegance and transformation! Dress to impress in your finest Regency-inspired attire and join us for a night of glamour\, celebration\, and unforgettable memories. Let the Freedom 250 Dinner be your escape into a timeless evening where sophistication reigns and every guest becomes part of the story. \n Ticket Info\n$125 per guest\nIncludes dinner\, wine pairings\, & live entertainment. \n\n\n 
URL:https://thehrcc.com/hrcc-event/freedom-dinner/
LOCATION:Hampton Roads Convention Center\, 1610 Coliseum Dr\, Hampton\, VA\, 23666\, United States
CATEGORIES:Featured on Homepage
ATTACH;FMTTYPE=image/png:https://thehrcc.com/wp-content/uploads/2026/01/F250-may-29-2026-horizontal.png
END:VEVENT
BEGIN:VEVENT
DTSTART;TZID=America/New_York:20260530T100000
DTEND;TZID=America/New_York:20260530T190000
DTSTAMP:20260423T071026
CREATED:20260415T192512Z
LAST-MODIFIED:20260415T192512Z
UID:10000471-1780135200-1780167600@thehrcc.com
SUMMARY:East Coast Punk Rock Flea Market
DESCRIPTION:The East Coast Punk Rock Flea Market comes to the Hampton Roads Convention Center in Hampton\, VA\, on May 30–31\, 2026\, from 10 AM to 7 PM daily. Presented by 96X\, this two-day event features hundreds of vendors\, live music\, tattoos\, piercings\, and unique DIY\, vintage\, and horror items\, making it a family-friendly\, all-ages experience.
URL:https://thehrcc.com/hrcc-event/east-coast-punk-rock-flea-market/2026-05-30/
LOCATION:Hampton Roads Convention Center\, 1610 Coliseum Dr\, Hampton\, VA\, 23666\, United States
CATEGORIES:Featured on Homepage
ATTACH;FMTTYPE=image/jpeg:https://thehrcc.com/wp-content/uploads/2026/03/3bb6f5ef-be21-4714-a836-348bf67addb2.jpg
END:VEVENT
BEGIN:VEVENT
DTSTART;TZID=America/New_York:20260531T100000
DTEND;TZID=America/New_York:20260531T190000
DTSTAMP:20260423T071026
CREATED:20260415T192512Z
LAST-MODIFIED:20260415T192512Z
UID:10000472-1780221600-1780254000@thehrcc.com
SUMMARY:East Coast Punk Rock Flea Market
DESCRIPTION:The East Coast Punk Rock Flea Market comes to the Hampton Roads Convention Center in Hampton\, VA\, on May 30–31\, 2026\, from 10 AM to 7 PM daily. Presented by 96X\, this two-day event features hundreds of vendors\, live music\, tattoos\, piercings\, and unique DIY\, vintage\, and horror items\, making it a family-friendly\, all-ages experience.
URL:https://thehrcc.com/hrcc-event/east-coast-punk-rock-flea-market/2026-05-31/
LOCATION:Hampton Roads Convention Center\, 1610 Coliseum Dr\, Hampton\, VA\, 23666\, United States
CATEGORIES:Featured on Homepage
ATTACH;FMTTYPE=image/jpeg:https://thehrcc.com/wp-content/uploads/2026/03/3bb6f5ef-be21-4714-a836-348bf67addb2.jpg
END:VEVENT
END:VCALENDAR